BEGIN:VCALENDAR
VERSION:2.0
PRODID:-//My Calendar//http://www.joedolson.com//v3.1.13//EN
METHOD:PUBLISH
CALSCALE:GREGORIAN
X-WR-CALNAME:The Triple Crown Trilogy
X-PUBLISHED-TTL:PT24H
REFRESH-INTERVAL;VALUE=DURATION:PT24H
X-WR-CALDESC:Events from The Triple Crown Trilogy
BEGIN:VEVENT
UID:3-2
LOCATION:Fox Chase Farm   Middleburg VA
SUMMARY:Book Signing at Fox Chase Farm
DTSTAMP:20150307T180000
ORGANIZER;CN=tcadmin:MAILTO:danny@mascotbooks.com
DTSTART;TZID=Etc/GMT+0:20150307T180000
DTEND;TZID=Etc/GMT+0:20150307T210000
URL;VALUE=URI:http://www.foxchasefarm.net
DESCRIPTION:Come get your copy of Calm Before the Storm signed by the author at Fox Chase Farm in Middleburg, VA. http://www.foxchasefarm.net
CATEGORIES:1
END:VEVENT
END:VCALENDAR